BEGIN:VCALENDAR
VERSION:2.0
PRODID:-//WVG 1928 - ECPv6.15.20//NONSGML v1.0//EN
CALSCALE:GREGORIAN
METHOD:PUBLISH
X-WR-CALNAME:WVG 1928
X-ORIGINAL-URL:https://wvg1928.de
X-WR-CALDESC:Veranstaltungen für WVG 1928
REFRESH-INTERVAL;VALUE=DURATION:PT1H
X-Robots-Tag:noindex
X-PUBLISHED-TTL:PT1H
BEGIN:VTIMEZONE
TZID:Europe/Berlin
BEGIN:DAYLIGHT
TZOFFSETFROM:+0100
TZOFFSETTO:+0200
TZNAME:CEST
DTSTART:20230326T010000
END:DAYLIGHT
BEGIN:STANDARD
TZOFFSETFROM:+0200
TZOFFSETTO:+0100
TZNAME:CET
DTSTART:20231029T010000
END:STANDARD
BEGIN:DAYLIGHT
TZOFFSETFROM:+0100
TZOFFSETTO:+0200
TZNAME:CEST
DTSTART:20240331T010000
END:DAYLIGHT
BEGIN:STANDARD
TZOFFSETFROM:+0200
TZOFFSETTO:+0100
TZNAME:CET
DTSTART:20241027T010000
END:STANDARD
BEGIN:DAYLIGHT
TZOFFSETFROM:+0100
TZOFFSETTO:+0200
TZNAME:CEST
DTSTART:20250330T010000
END:DAYLIGHT
BEGIN:STANDARD
TZOFFSETFROM:+0200
TZOFFSETTO:+0100
TZNAME:CET
DTSTART:20251026T010000
END:STANDARD
END:VTIMEZONE
BEGIN:VEVENT
DTSTART;VALUE=DATE:20241012
DTEND;VALUE=DATE:20241014
DTSTAMP:20260420T155348
CREATED:20240116T090205Z
LAST-MODIFIED:20240116T090205Z
UID:2849-1728691200-1728863999@wvg1928.de
SUMMARY:20. Nebelbeil
DESCRIPTION:Klasse: Pirat \nAusschreibung: >>hier<<
URL:https://wvg1928.de/event/20-nebelbeil/
LOCATION:WVG\, An den Bootshäusern 13/14\, Güstrow\, Mecklenburg-Vorpommern\, 18273\, Deutschland
CATEGORIES:Regatta
END:VEVENT
END:VCALENDAR